BEGIN:VCALENDAR
VERSION:2.0
PRODID:-//Global Institute of Organizational Coaching - ECPv6.15.20//NONSGML v1.0//EN
CALSCALE:GREGORIAN
METHOD:PUBLISH
X-WR-CALNAME:Global Institute of Organizational Coaching
X-ORIGINAL-URL:https://globalioc.com
X-WR-CALDESC:Events for Global Institute of Organizational Coaching
REFRESH-INTERVAL;VALUE=DURATION:PT1H
X-Robots-Tag:noindex
X-PUBLISHED-TTL:PT1H
BEGIN:VTIMEZONE
TZID:America/New_York
BEGIN:DAYLIGHT
TZOFFSETFROM:-0500
TZOFFSETTO:-0400
TZNAME:EDT
DTSTART:20240310T070000
END:DAYLIGHT
BEGIN:STANDARD
TZOFFSETFROM:-0400
TZOFFSETTO:-0500
TZNAME:EST
DTSTART:20241103T060000
END:STANDARD
BEGIN:DAYLIGHT
TZOFFSETFROM:-0500
TZOFFSETTO:-0400
TZNAME:EDT
DTSTART:20250309T070000
END:DAYLIGHT
BEGIN:STANDARD
TZOFFSETFROM:-0400
TZOFFSETTO:-0500
TZNAME:EST
DTSTART:20251102T060000
END:STANDARD
BEGIN:DAYLIGHT
TZOFFSETFROM:-0500
TZOFFSETTO:-0400
TZNAME:EDT
DTSTART:20260308T070000
END:DAYLIGHT
BEGIN:STANDARD
TZOFFSETFROM:-0400
TZOFFSETTO:-0500
TZNAME:EST
DTSTART:20261101T060000
END:STANDARD
END:VTIMEZONE
BEGIN:VEVENT
DTSTART;TZID=America/New_York:20251203T110000
DTEND;TZID=America/New_York:20251203T120000
DTSTAMP:20260423T152053
CREATED:20250812T155531Z
LAST-MODIFIED:20250924T194108Z
UID:15905-1764759600-1764763200@globalioc.com
SUMMARY:Sustaining Impact: The First Pillar – Foundations - Webinar
DESCRIPTION:Wednesday December 3rd @ 11 am EST \nClick here to Join Webinar \nSustaining change requires more than ambition—it begins with a clear\, grounded foundation. This session introduces the first pillar from the Sustaining Impact model\, focusing on the three pathways of Clarity\, Choosing\, and Clearing. You’ll explore how these interconnected practices help align values\, make purposeful decisions\, and create the space needed for growth to take root. Leaders will leave with a deeper understanding of how to start change in a way that can truly last. \n 
URL:https://globalioc.com/event-obsolete/sustaining-impact-the-first-pillar-foundations/
CATEGORIES:Webinars
ATTACH;FMTTYPE=image/png:https://globalioc.com/wp-content/uploads/2025/08/Global-Thumbnails-3-copy-2.png
END:VEVENT
BEGIN:VEVENT
DTSTART;TZID=America/New_York:20251106T110000
DTEND;TZID=America/New_York:20251120T130000
DTSTAMP:20260423T152053
CREATED:20250531T143931Z
LAST-MODIFIED:20250930T201228Z
UID:15395-1762426800-1763643600@globalioc.com
SUMMARY:Sustaining Impact from Insight to Embodiment Program
DESCRIPTION:Beginning Thursdays – November 6\, 2025 – 2 hrs each – 3 wks – 11:00 am  – 1 pm EST \nLearn More!
URL:https://globalioc.com/event-obsolete/sustaining-impact-coaching-program/
CATEGORIES:Course Offerings
ATTACH;FMTTYPE=image/png:https://globalioc.com/wp-content/uploads/2025/05/Global-Thumbnails-1.png
END:VEVENT
BEGIN:VEVENT
DTSTART;TZID=America/New_York:20251105T120000
DTEND;TZID=America/New_York:20251203T140000
DTSTAMP:20260423T152053
CREATED:20250829T182758Z
LAST-MODIFIED:20250930T200644Z
UID:15929-1762344000-1764770400@globalioc.com
SUMMARY:Detach from Drama Program
DESCRIPTION:Beginning Wednesdays November 5th – 4 wks/2 hrs – 12 pm EST \nNo class on Wednesday November 26th \nLearn More!
URL:https://globalioc.com/event-obsolete/detach-from-drama-program-2/
CATEGORIES:Course Offerings
ATTACH;FMTTYPE=image/png:https://globalioc.com/wp-content/uploads/2025/04/Detach-from-Drama-Program.png
END:VEVENT
BEGIN:VEVENT
DTSTART;TZID=America/New_York:20251105T110000
DTEND;TZID=America/New_York:20251105T120000
DTSTAMP:20260423T152053
CREATED:20250812T155107Z
LAST-MODIFIED:20250812T160135Z
UID:15901-1762340400-1762344000@globalioc.com
SUMMARY:Leading Across Differences Webinar
DESCRIPTION:Wednesday November 5th @ 11 am EST \nClick here to Join Webinar \nToday’s leaders face the challenge of bringing together people with diverse perspectives\, values\, and experiences. This webinar explores how to navigate differences in identity\, power\, and worldview while building belonging and psychological safety. Using real-world examples\, we’ll examine what it takes to create inclusive dialogue\, address tensions constructively\, and lead with both courage and empathy. Participants will gain strategies to strengthen collaboration across boundaries and turn diversity into a driver of innovation.
URL:https://globalioc.com/event-obsolete/leading-across-differences-webinar/
CATEGORIES:Webinars
END:VEVENT
BEGIN:VEVENT
DTSTART;TZID=America/New_York:20251023T120000
DTEND;TZID=America/New_York:20251023T133000
DTSTAMP:20260423T152053
CREATED:20250829T183824Z
LAST-MODIFIED:20250930T195858Z
UID:15936-1761220800-1761226200@globalioc.com
SUMMARY:Masterclass: Sustaining Impact — From Insight to Embodiment (90 minutes)
DESCRIPTION:Masterclass: Sustaining Impact — From Insight to Embodiment –  October 23rd – 90 min – 12 pm EST \nSustained change isn’t about the next quick fix—it’s about integrating new ways of leading into body\, mind\, and culture. This masterclass brings the framework from my upcoming book Sustaining Impact into practice. Designed for both coaches and leaders\, you’ll explore how to move from clarity to commitment\, and from momentum to renewal\, in ways that last. This is just a taste of the full Sustaining Impact program. \nPayment Link.
URL:https://globalioc.com/event-obsolete/masterclass-sustaining-impact-from-insight-to-embodiment-90-minutes/
CATEGORIES:Course Offerings
ATTACH;FMTTYPE=image/png:https://globalioc.com/wp-content/uploads/2025/08/Global-Thumbnails-3-copy-1.png
END:VEVENT
BEGIN:VEVENT
DTSTART;TZID=America/New_York:20251022T130000
DTEND;TZID=America/New_York:20251022T143000
DTSTAMP:20260423T152053
CREATED:20250829T183506Z
LAST-MODIFIED:20250930T195935Z
UID:15933-1761138000-1761143400@globalioc.com
SUMMARY:Masterclass: Breaking the Drama Cycle — A Masterclass in Emotional Reset (90 minutes)
DESCRIPTION:Masterclass: Breaking the Drama Cycle — A Masterclass in Emotional Reset \nOctober 22nd – 90 min – 1 pm EST \nDrama is contagious but so is calm. In this session\, you’ll learn how emotional reactivity spreads through teams—and how to interrupt the cycle before it takes hold. We’ll explore the PAUSE model\, practice simple resets\, and reflect on the triggers that pull us into drama. This session also introduces the Detach from Drama full program beginning October 8\, with an expansive workbook to help leaders and coaches integrate the six intervention points into everyday practice. \nPayment Link
URL:https://globalioc.com/event-obsolete/masterclass-breaking-the-drama-cycle-a-masterclass-in-emotional-reset-90-minutes/
CATEGORIES:Course Offerings
ATTACH;FMTTYPE=image/png:https://globalioc.com/wp-content/uploads/2025/08/Global-Thumbnails-3-1.png
END:VEVENT
END:VCALENDAR